BEGIN:VCALENDAR
VERSION:2.0
PRODID:-//TC3 - ECPv5.3.1//NONSGML v1.0//EN
CALSCALE:GREGORIAN
METHOD:PUBLISH
X-WR-CALNAME:TC3
X-ORIGINAL-URL:https://tc3.transportation.org
X-WR-CALDESC:Events for TC3
BEGIN:VTIMEZONE
TZID:UTC
BEGIN:STANDARD
TZOFFSETFROM:+0000
TZOFFSETTO:+0000
TZNAME:UTC
DTSTART:20150101T000000
END:STANDARD
END:VTIMEZONE
BEGIN:VEVENT
DTSTART;VALUE=DATE:20150801
DTEND;VALUE=DATE:20150806
DTSTAMP:20210501T113912
CREATED:20150616T180616Z
LAST-MODIFIED:20150616T180616Z
UID:110-1438387200-1438819199@tc3.transportation.org
SUMMARY:SASHTO
DESCRIPTION:
URL:https://tc3.transportation.org/event/sashto/
LOCATION:Unnamed Venue\, Nashville\, TN
END:VEVENT
END:VCALENDAR